BEGIN:VCALENDAR
VERSION:2.0
PRODID:-//217.160.0.23//NONSGML kigkonsult.se iCalcreator 2.20//
CALSCALE:GREGORIAN
METHOD:PUBLISH
X-WR-TIMEZONE:UTC
BEGIN:VEVENT
UID:event147@Förderverein Stadtbibliothek Rottenburg
DTSTAMP:20260423T025505Z
CATEGORIES:allgemeine Veranstaltung
DESCRIPTION:Lesung: Bis die Nacht ihr Auge öffnet - ein Hippie-Roman von Ge
 rd Flügel\nKategorie: allgemeine Veranstaltung\nICS-Link: https://www.foer
 derverein-stadtbibliothek-rottenburg.de/index.php?option=com_jem&view=even
 t&id=147:lesung-bis-die-nacht-ihr-auge-oeffnet-ein-hippie-roman-von-gerd-f
 luegel\n
DTSTART:20190914T190000Z
DTEND:20190914T190000Z
LOCATION:Café Stadtgespräch\,Königstraße 2\,72108 Rottenburg
SUMMARY:Lesung: Bis die Nacht ihr Auge öffnet - ein Hippie-Roman von Gerd F
 lügel
URL:https://www.foerderverein-stadtbibliothek-rottenburg.de/index.php?optio
 n=com_jem&view=event&id=147:lesung-bis-die-nacht-ihr-auge-oeffnet-ein-hipp
 ie-roman-von-gerd-fluegel
END:VEVENT
BEGIN:VEVENT
UID:event158@Förderverein Stadtbibliothek Rottenburg
DTSTAMP:20260423T025505Z
CATEGORIES:allgemeine Veranstaltung
DESCRIPTION:Spanier und Deutsche - eine Annäherung\nKategorie: allgemeine V
 eranstaltung\nICS-Link: https://www.foerderverein-stadtbibliothek-rottenbu
 rg.de/index.php?option=com_jem&view=event&id=158\n
DTSTART:20190925T190000Z
DTEND:20190925T190000Z
LOCATION:Café Stadtgespräch\,Königstraße 2\,72108 Rottenburg
SUMMARY:Spanier und Deutsche - eine Annäherung
URL:https://www.foerderverein-stadtbibliothek-rottenburg.de/index.php?optio
 n=com_jem&view=event&id=158
END:VEVENT
BEGIN:VEVENT
UID:event152@Förderverein Stadtbibliothek Rottenburg
DTSTAMP:20260423T025505Z
CATEGORIES:allgemeine Veranstaltung
DESCRIPTION:Guten Morgen liebes Weibchen\nKategorie: allgemeine Veranstaltu
 ng\nICS-Link: https://www.foerderverein-stadtbibliothek-rottenburg.de/inde
 x.php?option=com_jem&view=event&id=152:guten-morgen-liebes-weibchen\n
DTSTART:20191022T193000Z
DTEND:20191022T204500Z
LOCATION:Café Stadtgespräch\,Königstraße 2\,72108 Rottenburg
SUMMARY:Guten Morgen liebes Weibchen
URL:https://www.foerderverein-stadtbibliothek-rottenburg.de/index.php?optio
 n=com_jem&view=event&id=152:guten-morgen-liebes-weibchen
END:VEVENT
BEGIN:VEVENT
UID:event189@Förderverein Stadtbibliothek Rottenburg
DTSTAMP:20260423T025505Z
CATEGORIES:allgemeine Veranstaltung
DESCRIPTION:Wolfsgebiet von Edi Graf - Autorenlesung mit tierischen Speisen
  und Getränken\nKategorie: allgemeine Veranstaltung\nICS-Link: https://www
 .foerderverein-stadtbibliothek-rottenburg.de/index.php?option=com_jem&view
 =event&id=189\n
DTSTART:20191105T193000Z
DTEND:20191105T193000Z
LOCATION:Café Stadtgespräch\,Königstraße 2\,72108 Rottenburg
SUMMARY:Wolfsgebiet von Edi Graf - Autorenlesung mit tierischen Speisen und
  Getränken
URL:https://www.foerderverein-stadtbibliothek-rottenburg.de/index.php?optio
 n=com_jem&view=event&id=189
END:VEVENT
BEGIN:VEVENT
UID:event212@Förderverein Stadtbibliothek Rottenburg
DTSTAMP:20260423T025505Z
CATEGORIES:allgemeine Veranstaltung
DESCRIPTION:Autorenlesung von Edi Graf mit tierischen Speisen und Getränken
 \nKategorie: allgemeine Veranstaltung\nICS-Link: https://www.foerderverein
 -stadtbibliothek-rottenburg.de/index.php?option=com_jem&view=event&id=212
 \n
DTSTART:20191105T193000Z
DTEND:20191105T193000Z
LOCATION:Café Stadtgespräch\,Königstraße 2\,72108 Rottenburg
SUMMARY:Autorenlesung von Edi Graf mit tierischen Speisen und Getränken
URL:https://www.foerderverein-stadtbibliothek-rottenburg.de/index.php?optio
 n=com_jem&view=event&id=212
END:VEVENT
BEGIN:VEVENT
UID:event204@Förderverein Stadtbibliothek Rottenburg
DTSTAMP:20260423T025505Z
CATEGORIES:allgemeine Veranstaltung
DESCRIPTION:Vortrag: Entzündliche Darmerkrankungen (Teil 3)\nKategorie: all
 gemeine Veranstaltung\nICS-Link: https://www.foerderverein-stadtbibliothek
 -rottenburg.de/index.php?option=com_jem&view=event&id=204\n
DTSTART:20191121T193000Z
DTEND:20191121T193000Z
LOCATION:Café Stadtgespräch\,Königstraße 2\,72108 Rottenburg
SUMMARY:Vortrag: Entzündliche Darmerkrankungen (Teil 3)
URL:https://www.foerderverein-stadtbibliothek-rottenburg.de/index.php?optio
 n=com_jem&view=event&id=204
END:VEVENT
BEGIN:VEVENT
UID:event205@Förderverein Stadtbibliothek Rottenburg
DTSTAMP:20260423T025505Z
CATEGORIES:allgemeine Veranstaltung
DESCRIPTION:LiteraTour 2019 - Neuerscheinungen deutschsprachiger Autor*inne
 n\nKategorie: allgemeine Veranstaltung\nICS-Link: https://www.foerderverei
 n-stadtbibliothek-rottenburg.de/index.php?option=com_jem&view=event&id=205
 \n
DTSTART:20191129T193000Z
DTEND:20191129T193000Z
LOCATION:Café Stadtgespräch\,Königstraße 2\,72108 Rottenburg
SUMMARY:LiteraTour 2019 - Neuerscheinungen deutschsprachiger Autor*innen
URL:https://www.foerderverein-stadtbibliothek-rottenburg.de/index.php?optio
 n=com_jem&view=event&id=205
END:VEVENT
BEGIN:VEVENT
UID:event206@Förderverein Stadtbibliothek Rottenburg
DTSTAMP:20260423T025505Z
CATEGORIES:allgemeine Veranstaltung
DESCRIPTION:Bücherbrunch im Advent\nKategorie: allgemeine Veranstaltung\nIC
 S-Link: https://www.foerderverein-stadtbibliothek-rottenburg.de/index.php?
 option=com_jem&view=event&id=206\n
DTSTART:20191201T093000Z
DTEND:20191201T093000Z
LOCATION:Café Stadtgespräch\,Königstraße 2\,72108 Rottenburg
SUMMARY:Bücherbrunch im Advent
URL:https://www.foerderverein-stadtbibliothek-rottenburg.de/index.php?optio
 n=com_jem&view=event&id=206
END:VEVENT
BEGIN:VEVENT
UID:event623@Förderverein Stadtbibliothek Rottenburg
DTSTAMP:20260423T025505Z
CATEGORIES:allgemeine Veranstaltung
DESCRIPTION:Im Namen des Volkes\nKategorie: allgemeine Veranstaltung\nICS-L
 ink: https://www.foerderverein-stadtbibliothek-rottenburg.de/index.php?opt
 ion=com_jem&view=event&id=623:im-namen-des-volkes\n
DTSTART;VALUE=DATE:20200115
DTEND;VALUE=DATE:20200116
LOCATION:Café Stadtgespräch\,Königstraße 2\,72108 Rottenburg
SUMMARY:Im Namen des Volkes
URL:https://www.foerderverein-stadtbibliothek-rottenburg.de/index.php?optio
 n=com_jem&view=event&id=623:im-namen-des-volkes
END:VEVENT
BEGIN:VEVENT
UID:event681@Förderverein Stadtbibliothek Rottenburg
DTSTAMP:20260423T025505Z
CATEGORIES:allgemeine Veranstaltung
DESCRIPTION:Hölderlin-Projekt - Hölderlin-Spoken-Word-Band und mehr\nKatego
 rie: allgemeine Veranstaltung\nICS-Link: https://www.foerderverein-stadtbi
 bliothek-rottenburg.de/index.php?option=com_jem&view=event&id=681\n
DTSTART:20200213T190000Z
DTEND:20200213T190000Z
LOCATION:Café Stadtgespräch\,Königstraße 2\,72108 Rottenburg
SUMMARY:Hölderlin-Projekt - Hölderlin-Spoken-Word-Band und mehr
URL:https://www.foerderverein-stadtbibliothek-rottenburg.de/index.php?optio
 n=com_jem&view=event&id=681
END:VEVENT
END:VCALENDAR
