BEGIN:VCALENDAR
VERSION:2.0
PRODID:-//217.160.0.23//NONSGML kigkonsult.se iCalcreator 2.20//
CALSCALE:GREGORIAN
METHOD:PUBLISH
X-WR-TIMEZONE:UTC
BEGIN:VEVENT
UID:event859@Förderverein Stadtbibliothek Rottenburg
DTSTAMP:20260423T114206Z
CATEGORIES:allgemeine Veranstaltung
DESCRIPTION:Geschichten\, die glücklich machen\nKategorie: allgemeine Veran
 staltung\nICS-Link: https://www.foerderverein-stadtbibliothek-rottenburg.d
 e/index.php?option=com_jem&view=event&id=859:12-rottenburger-sommerleseabe
 nde\n
DTSTART:20210820T190000Z
DTEND:20210820T190000Z
LOCATION:Lesesessel vor dem Haus am Neckar\,Unterwässer 1\,72108 Rottenburg
SUMMARY:Geschichten\, die glücklich machen
URL:https://www.foerderverein-stadtbibliothek-rottenburg.de/index.php?optio
 n=com_jem&view=event&id=859:12-rottenburger-sommerleseabende
END:VEVENT
BEGIN:VEVENT
UID:event860@Förderverein Stadtbibliothek Rottenburg
DTSTAMP:20260423T114206Z
CATEGORIES:allgemeine Veranstaltung
DESCRIPTION:Geschichten\, die glücklich machen\nKategorie: allgemeine Veran
 staltung\nICS-Link: https://www.foerderverein-stadtbibliothek-rottenburg.d
 e/index.php?option=com_jem&view=event&id=860:12-rottenburger-sommerleseabe
 nde\n
DTSTART:20210821T190000Z
DTEND:20210821T190000Z
LOCATION:Lesesessel vor dem Haus am Neckar\,Unterwässer 1\,72108 Rottenburg
SUMMARY:Geschichten\, die glücklich machen
URL:https://www.foerderverein-stadtbibliothek-rottenburg.de/index.php?optio
 n=com_jem&view=event&id=860:12-rottenburger-sommerleseabende
END:VEVENT
BEGIN:VEVENT
UID:event861@Förderverein Stadtbibliothek Rottenburg
DTSTAMP:20260423T114206Z
CATEGORIES:allgemeine Veranstaltung
DESCRIPTION:Geschichten\, die glücklich machen\nKategorie: allgemeine Veran
 staltung\nICS-Link: https://www.foerderverein-stadtbibliothek-rottenburg.d
 e/index.php?option=com_jem&view=event&id=861:12-rottenburger-sommerleseabe
 nde\n
DTSTART:20210822T190000Z
DTEND:20210822T190000Z
LOCATION:Lesesessel vor dem Haus am Neckar\,Unterwässer 1\,72108 Rottenburg
SUMMARY:Geschichten\, die glücklich machen
URL:https://www.foerderverein-stadtbibliothek-rottenburg.de/index.php?optio
 n=com_jem&view=event&id=861:12-rottenburger-sommerleseabende
END:VEVENT
BEGIN:VEVENT
UID:event862@Förderverein Stadtbibliothek Rottenburg
DTSTAMP:20260423T114206Z
CATEGORIES:allgemeine Veranstaltung
DESCRIPTION:Geschichten\, die glücklich machen\nKategorie: allgemeine Veran
 staltung\nICS-Link: https://www.foerderverein-stadtbibliothek-rottenburg.d
 e/index.php?option=com_jem&view=event&id=862:12-rottenburger-sommerleseabe
 nde\n
DTSTART:20210823T190000Z
DTEND:20210823T190000Z
LOCATION:Lesesessel vor dem Haus am Neckar\,Unterwässer 1\,72108 Rottenburg
SUMMARY:Geschichten\, die glücklich machen
URL:https://www.foerderverein-stadtbibliothek-rottenburg.de/index.php?optio
 n=com_jem&view=event&id=862:12-rottenburger-sommerleseabende
END:VEVENT
BEGIN:VEVENT
UID:event863@Förderverein Stadtbibliothek Rottenburg
DTSTAMP:20260423T114206Z
CATEGORIES:allgemeine Veranstaltung
DESCRIPTION:Geschichten\, die glücklich machen\nKategorie: allgemeine Veran
 staltung\nICS-Link: https://www.foerderverein-stadtbibliothek-rottenburg.d
 e/index.php?option=com_jem&view=event&id=863:12-rottenburger-sommerleseabe
 nde\n
DTSTART:20210824T190000Z
DTEND:20210824T190000Z
LOCATION:Lesesessel vor dem Haus am Neckar\,Unterwässer 1\,72108 Rottenburg
SUMMARY:Geschichten\, die glücklich machen
URL:https://www.foerderverein-stadtbibliothek-rottenburg.de/index.php?optio
 n=com_jem&view=event&id=863:12-rottenburger-sommerleseabende
END:VEVENT
BEGIN:VEVENT
UID:event1026@Förderverein Stadtbibliothek Rottenburg
DTSTAMP:20260423T114206Z
CATEGORIES:allgemeine Veranstaltung
DESCRIPTION:Rottenburger Sommerleseabende HOCH HINAUS\nKategorie: allgemein
 e Veranstaltung\nICS-Link: https://www.foerderverein-stadtbibliothek-rotte
 nburg.de/index.php?option=com_jem&view=event&id=1026:rottenburger-sommerle
 seabende-hoch-hinaus\n
DTSTART:20230825T000000Z
DTEND:20230825T000000Z
LOCATION:Lesesessel vor dem Haus am Neckar\,Unterwässer 1\,72108 Rottenburg
SUMMARY:Rottenburger Sommerleseabende HOCH HINAUS
URL:https://www.foerderverein-stadtbibliothek-rottenburg.de/index.php?optio
 n=com_jem&view=event&id=1026:rottenburger-sommerleseabende-hoch-hinaus
END:VEVENT
END:VCALENDAR
