BEGIN:VCALENDAR
VERSION:2.0
PRODID:-//217.160.0.23//NONSGML kigkonsult.se iCalcreator 2.20//
CALSCALE:GREGORIAN
METHOD:PUBLISH
X-WR-TIMEZONE:UTC
BEGIN:VEVENT
UID:event999@Förderverein Stadtbibliothek Rottenburg
DTSTAMP:20260423T010045Z
CATEGORIES:allgemeine Veranstaltung
DESCRIPTION:Lesung\nKategorie: allgemeine Veranstaltung\nICS-Link: https://
 www.foerderverein-stadtbibliothek-rottenburg.de/index.php?option=com_jem&v
 iew=event&id=999:lesung\n
DTSTART:20230303T183000Z
DTEND:20230303T200000Z
LOCATION:Café Stadtgespräch\,Königstraße 2\,72108 Rottenburg
SUMMARY:Lesung
URL:https://www.foerderverein-stadtbibliothek-rottenburg.de/index.php?optio
 n=com_jem&view=event&id=999:lesung
END:VEVENT
END:VCALENDAR
