BEGIN:VCALENDAR
VERSION:2.0
PRODID:-//217.160.0.23//NONSGML kigkonsult.se iCalcreator 2.20//
CALSCALE:GREGORIAN
METHOD:PUBLISH
X-WR-TIMEZONE:UTC
BEGIN:VEVENT
UID:event991@Förderverein Stadtbibliothek Rottenburg
DTSTAMP:20260423T005832Z
CATEGORIES:allgemeine Veranstaltung
DESCRIPTION:Russische Literatur \nKategorie: allgemeine Veranstaltung\nICS-
 Link: https://www.foerderverein-stadtbibliothek-rottenburg.de/index.php?op
 tion=com_jem&view=event&id=991\n
DTSTART:20230202T190000Z
DTEND:20230202T190000Z
LOCATION:Café Stadtgespräch\,Königstraße 2\,72108 Rottenburg
SUMMARY:Russische Literatur 
URL:https://www.foerderverein-stadtbibliothek-rottenburg.de/index.php?optio
 n=com_jem&view=event&id=991
END:VEVENT
END:VCALENDAR
