BEGIN:VCALENDAR
VERSION:2.0
PRODID:-//217.160.0.23//NONSGML kigkonsult.se iCalcreator 2.20//
CALSCALE:GREGORIAN
METHOD:PUBLISH
X-WR-TIMEZONE:UTC
BEGIN:VEVENT
UID:event981@Förderverein Stadtbibliothek Rottenburg
DTSTAMP:20260423T005831Z
CATEGORIES:allgemeine Veranstaltung
DESCRIPTION:Vernissage Passepartouts\nKategorie: allgemeine Veranstaltung\n
 ICS-Link: https://www.foerderverein-stadtbibliothek-rottenburg.de/index.ph
 p?option=com_jem&view=event&id=981\n
DTSTART:20230110T190000Z
DTEND:20230110T190000Z
LOCATION:Café Stadtgespräch\,Königstraße 2\,72108 Rottenburg
SUMMARY:Vernissage Passepartouts
URL:https://www.foerderverein-stadtbibliothek-rottenburg.de/index.php?optio
 n=com_jem&view=event&id=981
END:VEVENT
END:VCALENDAR
