BEGIN:VCALENDAR
VERSION:2.0
PRODID:-//217.160.0.23//NONSGML kigkonsult.se iCalcreator 2.20//
CALSCALE:GREGORIAN
METHOD:PUBLISH
X-WR-TIMEZONE:UTC
BEGIN:VEVENT
UID:event974@Förderverein Stadtbibliothek Rottenburg
DTSTAMP:20260423T025353Z
CATEGORIES:allgemeine Veranstaltung
DESCRIPTION:Ausstellung Passepartouts\nKategorie: allgemeine Veranstaltung
 \nICS-Link: https://www.foerderverein-stadtbibliothek-rottenburg.de/index.
 php?option=com_jem&view=event&id=974\n
DTSTART:20230110T000000Z
DTEND:20230110T000000Z
LOCATION:Café Stadtgespräch\,Königstraße 2\,72108 Rottenburg
SUMMARY:Ausstellung Passepartouts
URL:https://www.foerderverein-stadtbibliothek-rottenburg.de/index.php?optio
 n=com_jem&view=event&id=974
END:VEVENT
END:VCALENDAR
