BEGIN:VCALENDAR
VERSION:2.0
PRODID:-//217.160.0.23//NONSGML kigkonsult.se iCalcreator 2.20//
CALSCALE:GREGORIAN
METHOD:PUBLISH
X-WR-TIMEZONE:UTC
BEGIN:VEVENT
UID:event967@Förderverein Stadtbibliothek Rottenburg
DTSTAMP:20260423T025353Z
CATEGORIES:allgemeine Veranstaltung
DESCRIPTION:Maultaschen in Love\nKategorie: allgemeine Veranstaltung\nICS-L
 ink: https://www.foerderverein-stadtbibliothek-rottenburg.de/index.php?opt
 ion=com_jem&view=event&id=967\n
DTSTART:20221118T193000Z
DTEND:20221118T193000Z
LOCATION:Café Stadtgespräch\,Königstraße 2\,72108 Rottenburg
SUMMARY:Maultaschen in Love
URL:https://www.foerderverein-stadtbibliothek-rottenburg.de/index.php?optio
 n=com_jem&view=event&id=967
END:VEVENT
END:VCALENDAR
