BEGIN:VCALENDAR
VERSION:2.0
PRODID:-//217.160.0.23//NONSGML kigkonsult.se iCalcreator 2.20//
CALSCALE:GREGORIAN
METHOD:PUBLISH
X-WR-TIMEZONE:UTC
BEGIN:VEVENT
UID:event959@Förderverein Stadtbibliothek Rottenburg
DTSTAMP:20260423T063439Z
CATEGORIES:allgemeine Veranstaltung
DESCRIPTION:Klaus Dörre:  Die Utopie des Sozialismus -Kompass für eine Nach
 haltigkeitsrevolution-\nKategorie: allgemeine Veranstaltung\nICS-Link: htt
 ps://www.foerderverein-stadtbibliothek-rottenburg.de/index.php?option=com_
 jem&view=event&id=959\n
DTSTART:20221024T100000Z
DTEND:20221024T113000Z
LOCATION:Café Stadtgespräch\,Königstraße 2\,72108 Rottenburg
SUMMARY:Klaus Dörre:  Die Utopie des Sozialismus -Kompass für eine Nachhalt
 igkeitsrevolution-
URL:https://www.foerderverein-stadtbibliothek-rottenburg.de/index.php?optio
 n=com_jem&view=event&id=959
END:VEVENT
END:VCALENDAR
