BEGIN:VCALENDAR
VERSION:2.0
PRODID:-//217.160.0.23//NONSGML kigkonsult.se iCalcreator 2.20//
CALSCALE:GREGORIAN
METHOD:PUBLISH
X-WR-TIMEZONE:UTC
BEGIN:VEVENT
UID:event957@Förderverein Stadtbibliothek Rottenburg
DTSTAMP:20260423T065001Z
CATEGORIES:allgemeine Veranstaltung
DESCRIPTION:Serhij Zhadan als Sinnbild der modernen Ukraine\nKategorie: all
 gemeine Veranstaltung\nICS-Link: https://www.foerderverein-stadtbibliothek
 -rottenburg.de/index.php?option=com_jem&view=event&id=957:serhij-zhadan-al
 s-sinnbild-der-modernen-ukraine\n
DTSTART:20230116T190000Z
DTEND:20230116T210000Z
LOCATION:Café Stadtgespräch\,Königstraße 2\,72108 Rottenburg
SUMMARY:Serhij Zhadan als Sinnbild der modernen Ukraine
URL:https://www.foerderverein-stadtbibliothek-rottenburg.de/index.php?optio
 n=com_jem&view=event&id=957:serhij-zhadan-als-sinnbild-der-modernen-ukrain
 e
END:VEVENT
END:VCALENDAR
