BEGIN:VCALENDAR
VERSION:2.0
PRODID:-//217.160.0.23//NONSGML kigkonsult.se iCalcreator 2.20//
CALSCALE:GREGORIAN
METHOD:PUBLISH
X-WR-TIMEZONE:UTC
BEGIN:VEVENT
UID:event956@Förderverein Stadtbibliothek Rottenburg
DTSTAMP:20260423T144900Z
CATEGORIES:allgemeine Veranstaltung
DESCRIPTION:Finnisage zur Fotoausstellung Viele Sprachen - eine Stadt von d
 er Fotokünstlerin Natalia Zumarán und Barbara Tomforde \nKategorie: allgem
 eine Veranstaltung\nICS-Link: https://www.foerderverein-stadtbibliothek-ro
 ttenburg.de/index.php?option=com_jem&view=event&id=956\n
DTSTART:20220928T193000Z
DTEND:20220928T230000Z
LOCATION:Stadtbibliothek 2. Stock\,Königstraße 2\,72108 Rottenburg
SUMMARY:Finnisage zur Fotoausstellung Viele Sprachen - eine Stadt von der F
 otokünstlerin Natalia Zumarán und Barbara Tomforde 
URL:https://www.foerderverein-stadtbibliothek-rottenburg.de/index.php?optio
 n=com_jem&view=event&id=956
END:VEVENT
END:VCALENDAR
