BEGIN:VCALENDAR
VERSION:2.0
PRODID:-//217.160.0.23//NONSGML kigkonsult.se iCalcreator 2.20//
CALSCALE:GREGORIAN
METHOD:PUBLISH
X-WR-TIMEZONE:UTC
BEGIN:VEVENT
UID:event933@Förderverein Stadtbibliothek Rottenburg
DTSTAMP:20260423T065108Z
CATEGORIES:allgemeine Veranstaltung
DESCRIPTION:Diesen Kuss der ganzen Welt - Beethoven in Briefen und Musik\nK
 ategorie: allgemeine Veranstaltung\nICS-Link: https://www.foerderverein-st
 adtbibliothek-rottenburg.de/index.php?option=com_jem&view=event&id=933:die
 sen-kuss-der-ganzen-welt-beethoven-in-briefen-und-musik\n
DTSTART:20220512T193000Z
DTEND:20220512T210000Z
LOCATION:Café Stadtgespräch\,Königstraße 2\,72108 Rottenburg
SUMMARY:Diesen Kuss der ganzen Welt - Beethoven in Briefen und Musik
URL:https://www.foerderverein-stadtbibliothek-rottenburg.de/index.php?optio
 n=com_jem&view=event&id=933:diesen-kuss-der-ganzen-welt-beethoven-in-brief
 en-und-musik
END:VEVENT
END:VCALENDAR
