BEGIN:VCALENDAR
VERSION:2.0
PRODID:-//217.160.0.23//NONSGML kigkonsult.se iCalcreator 2.20//
CALSCALE:GREGORIAN
METHOD:PUBLISH
X-WR-TIMEZONE:UTC
BEGIN:VEVENT
UID:event913@Förderverein Stadtbibliothek Rottenburg
DTSTAMP:20260422T231024Z
CATEGORIES:allgemeine Veranstaltung
DESCRIPTION:Der Krieg in der Ukraine - das Ende deutscher Illusionen?\nKate
 gorie: allgemeine Veranstaltung\nICS-Link: https://www.foerderverein-stadt
 bibliothek-rottenburg.de/index.php?option=com_jem&view=event&id=913\n
DTSTART:20220328T100000Z
DTEND:20220328T113000Z
LOCATION:Café Stadtgespräch\,Königstraße 2\,72108 Rottenburg
SUMMARY:Der Krieg in der Ukraine - das Ende deutscher Illusionen?
URL:https://www.foerderverein-stadtbibliothek-rottenburg.de/index.php?optio
 n=com_jem&view=event&id=913
END:VEVENT
END:VCALENDAR
