BEGIN:VCALENDAR
VERSION:2.0
PRODID:-//217.160.0.23//NONSGML kigkonsult.se iCalcreator 2.20//
CALSCALE:GREGORIAN
METHOD:PUBLISH
X-WR-TIMEZONE:UTC
BEGIN:VEVENT
UID:event893@Förderverein Stadtbibliothek Rottenburg
DTSTAMP:20260422T225948Z
CATEGORIES:allgemeine Veranstaltung
DESCRIPTION:Politischer Gesprächskreis Online: Ist Genügsamkeit ein Beitrag
  zur Rettung unseres Ökosystems?\nKategorie: allgemeine Veranstaltung\nICS
 -Link: https://www.foerderverein-stadtbibliothek-rottenburg.de/index.php?o
 ption=com_jem&view=event&id=893\n
DTSTART:20211213T100000Z
DTEND:20211213T113000Z
LOCATION:Café Stadtgespräch\,Königstraße 2\,72108 Rottenburg
SUMMARY:Politischer Gesprächskreis Online: Ist Genügsamkeit ein Beitrag zur
  Rettung unseres Ökosystems?
URL:https://www.foerderverein-stadtbibliothek-rottenburg.de/index.php?optio
 n=com_jem&view=event&id=893
END:VEVENT
END:VCALENDAR
