BEGIN:VCALENDAR
VERSION:2.0
PRODID:-//217.160.0.23//NONSGML kigkonsult.se iCalcreator 2.20//
CALSCALE:GREGORIAN
METHOD:PUBLISH
X-WR-TIMEZONE:UTC
BEGIN:VEVENT
UID:event876@Förderverein Stadtbibliothek Rottenburg
DTSTAMP:20260423T064024Z
CATEGORIES:allgemeine Veranstaltung
DESCRIPTION:Eine Stunde ein Jude\nKategorie: allgemeine Veranstaltung\nICS-
 Link: https://www.foerderverein-stadtbibliothek-rottenburg.de/index.php?op
 tion=com_jem&view=event&id=876:eine-stunde-ein-jude\n
DTSTART:20211111T193000Z
DTEND:20211111T210000Z
LOCATION:Café Stadtgespräch\,Königstraße 2\,72108 Rottenburg
SUMMARY:Eine Stunde ein Jude
URL:https://www.foerderverein-stadtbibliothek-rottenburg.de/index.php?optio
 n=com_jem&view=event&id=876:eine-stunde-ein-jude
END:VEVENT
END:VCALENDAR
