BEGIN:VCALENDAR
VERSION:2.0
PRODID:-//217.160.0.23//NONSGML kigkonsult.se iCalcreator 2.20//
CALSCALE:GREGORIAN
METHOD:PUBLISH
X-WR-TIMEZONE:UTC
BEGIN:VEVENT
UID:event830@Förderverein Stadtbibliothek Rottenburg
DTSTAMP:20260423T014954Z
CATEGORIES:allgemeine Veranstaltung
DESCRIPTION:Die Bürger als Vetomacht - Die Gegen-Demokratie. Politik im Zei
 talter des Misstrauens\nKategorie: allgemeine Veranstaltung\nICS-Link: htt
 ps://www.foerderverein-stadtbibliothek-rottenburg.de/index.php?option=com_
 jem&view=event&id=830\n
DTSTART:20210518T100000Z
DTEND:20210518T113000Z
LOCATION:Café Stadtgespräch\,Königstraße 2\,72108 Rottenburg
SUMMARY:Die Bürger als Vetomacht - Die Gegen-Demokratie. Politik im Zeitalt
 er des Misstrauens
URL:https://www.foerderverein-stadtbibliothek-rottenburg.de/index.php?optio
 n=com_jem&view=event&id=830
END:VEVENT
END:VCALENDAR
