BEGIN:VCALENDAR
VERSION:2.0
PRODID:-//217.160.0.23//NONSGML kigkonsult.se iCalcreator 2.20//
CALSCALE:GREGORIAN
METHOD:PUBLISH
X-WR-TIMEZONE:UTC
BEGIN:VEVENT
UID:event808@Förderverein Stadtbibliothek Rottenburg
DTSTAMP:20260423T041411Z
CATEGORIES:allgemeine Veranstaltung
DESCRIPTION:Buchvorstellung Christian Pfeiffer: Gegen die Gewalt\nKategorie
 : allgemeine Veranstaltung\nICS-Link: https://www.foerderverein-stadtbibli
 othek-rottenburg.de/index.php?option=com_jem&view=event&id=808\n
DTSTART:20210223T100000Z
DTEND:20210223T113000Z
LOCATION:Café Stadtgespräch\,Königstraße 2\,72108 Rottenburg
SUMMARY:Buchvorstellung Christian Pfeiffer: Gegen die Gewalt
URL:https://www.foerderverein-stadtbibliothek-rottenburg.de/index.php?optio
 n=com_jem&view=event&id=808
END:VEVENT
END:VCALENDAR
