BEGIN:VCALENDAR
VERSION:2.0
PRODID:-//217.160.0.23//NONSGML kigkonsult.se iCalcreator 2.20//
CALSCALE:GREGORIAN
METHOD:PUBLISH
X-WR-TIMEZONE:UTC
BEGIN:VEVENT
UID:event801@Förderverein Stadtbibliothek Rottenburg
DTSTAMP:20260423T041411Z
CATEGORIES:allgemeine Veranstaltung
DESCRIPTION:Buchvorstellung: Bernhard Pörksen „Die große Gereiztheit“  - On
 lineveranstaltung\nKategorie: allgemeine Veranstaltung\nICS-Link: https://
 www.foerderverein-stadtbibliothek-rottenburg.de/index.php?option=com_jem&v
 iew=event&id=801\n
DTSTART:20210126T100000Z
DTEND:20210126T113000Z
LOCATION:Café Stadtgespräch\,Königstraße 2\,72108 Rottenburg
SUMMARY:Buchvorstellung: Bernhard Pörksen „Die große Gereiztheit“  - Online
 veranstaltung
URL:https://www.foerderverein-stadtbibliothek-rottenburg.de/index.php?optio
 n=com_jem&view=event&id=801
END:VEVENT
END:VCALENDAR
