BEGIN:VCALENDAR
VERSION:2.0
PRODID:-//217.160.0.23//NONSGML kigkonsult.se iCalcreator 2.20//
CALSCALE:GREGORIAN
METHOD:PUBLISH
X-WR-TIMEZONE:UTC
BEGIN:VEVENT
UID:event762@Förderverein Stadtbibliothek Rottenburg
DTSTAMP:20260422T225955Z
CATEGORIES:allgemeine Veranstaltung
DESCRIPTION:Emoji-Quiz und Lesung im Rahmen der Straßenlaternenkultur\nKate
 gorie: allgemeine Veranstaltung\nICS-Link: https://www.foerderverein-stadt
 bibliothek-rottenburg.de/index.php?option=com_jem&view=event&id=762\n
DTSTART:20200925T183000Z
DTEND:20200925T203000Z
LOCATION:Café Stadtgespräch\,Königstraße 2\,72108 Rottenburg
SUMMARY:Emoji-Quiz und Lesung im Rahmen der Straßenlaternenkultur
URL:https://www.foerderverein-stadtbibliothek-rottenburg.de/index.php?optio
 n=com_jem&view=event&id=762
END:VEVENT
END:VCALENDAR
