BEGIN:VCALENDAR
VERSION:2.0
PRODID:-//217.160.0.23//NONSGML kigkonsult.se iCalcreator 2.20//
CALSCALE:GREGORIAN
METHOD:PUBLISH
X-WR-TIMEZONE:UTC
BEGIN:VEVENT
UID:event749@Förderverein Stadtbibliothek Rottenburg
DTSTAMP:20260423T040956Z
CATEGORIES:allgemeine Veranstaltung
DESCRIPTION:ABGESAGT: Diesen Kuss der ganzen Welt! -  Beethoven in Briefen 
 und Musik\nKategorie: allgemeine Veranstaltung\nICS-Link: https://www.foer
 derverein-stadtbibliothek-rottenburg.de/index.php?option=com_jem&view=even
 t&id=749\n
DTSTART:20201201T193000Z
DTEND:20201201T193000Z
LOCATION:Café Stadtgespräch\,Königstraße 2\,72108 Rottenburg
SUMMARY:ABGESAGT: Diesen Kuss der ganzen Welt! -  Beethoven in Briefen und 
 Musik
URL:https://www.foerderverein-stadtbibliothek-rottenburg.de/index.php?optio
 n=com_jem&view=event&id=749
END:VEVENT
END:VCALENDAR
