BEGIN:VCALENDAR
VERSION:2.0
PRODID:-//217.160.0.23//NONSGML kigkonsult.se iCalcreator 2.20//
CALSCALE:GREGORIAN
METHOD:PUBLISH
X-WR-TIMEZONE:UTC
BEGIN:VEVENT
UID:event746@Förderverein Stadtbibliothek Rottenburg
DTSTAMP:20260422T225956Z
CATEGORIES:allgemeine Veranstaltung
DESCRIPTION:Zu 75 Jahre Kriegsende: Die Botschaft der letzten Zeugen gegen 
 Hitler\nKategorie: allgemeine Veranstaltung\nICS-Link: https://www.foerder
 verein-stadtbibliothek-rottenburg.de/index.php?option=com_jem&view=event&i
 d=746\n
DTSTART:20201013T190000Z
DTEND:20201013T190000Z
LOCATION:Café Stadtgespräch\,Königstraße 2\,72108 Rottenburg
SUMMARY:Zu 75 Jahre Kriegsende: Die Botschaft der letzten Zeugen gegen Hitl
 er
URL:https://www.foerderverein-stadtbibliothek-rottenburg.de/index.php?optio
 n=com_jem&view=event&id=746
END:VEVENT
END:VCALENDAR
