BEGIN:VCALENDAR
VERSION:2.0
PRODID:-//217.160.0.23//NONSGML kigkonsult.se iCalcreator 2.20//
CALSCALE:GREGORIAN
METHOD:PUBLISH
X-WR-TIMEZONE:UTC
BEGIN:VEVENT
UID:event698@Förderverein Stadtbibliothek Rottenburg
DTSTAMP:20260423T011313Z
CATEGORIES:allgemeine Veranstaltung
DESCRIPTION:Foodsharing - wider die Lebensmittelverschwendung!\nKategorie: 
 allgemeine Veranstaltung\nICS-Link: https://www.foerderverein-stadtbibliot
 hek-rottenburg.de/index.php?option=com_jem&view=event&id=698\n
DTSTART:20200423T190000Z
DTEND:20200423T190000Z
LOCATION:Café Stadtgespräch\,Königstraße 2\,72108 Rottenburg
SUMMARY:Foodsharing - wider die Lebensmittelverschwendung!
URL:https://www.foerderverein-stadtbibliothek-rottenburg.de/index.php?optio
 n=com_jem&view=event&id=698
END:VEVENT
END:VCALENDAR
