BEGIN:VCALENDAR
VERSION:2.0
PRODID:-//217.160.0.23//NONSGML kigkonsult.se iCalcreator 2.20//
CALSCALE:GREGORIAN
METHOD:PUBLISH
X-WR-TIMEZONE:UTC
BEGIN:VEVENT
UID:event696@Förderverein Stadtbibliothek Rottenburg
DTSTAMP:20260423T011323Z
CATEGORIES:allgemeine Veranstaltung
DESCRIPTION:ABGESAGT! Buchvorstellung: Ein gewichtiges Werk. Die Geschichte
  der Diözese Rottenburg-Stuttgart\nKategorie: allgemeine Veranstaltung\nIC
 S-Link: https://www.foerderverein-stadtbibliothek-rottenburg.de/index.php?
 option=com_jem&view=event&id=696\n
DTSTART:20200507T190000Z
DTEND:20200507T200000Z
LOCATION:Café Stadtgespräch\,Königstraße 2\,72108 Rottenburg
SUMMARY:ABGESAGT! Buchvorstellung: Ein gewichtiges Werk. Die Geschichte der
  Diözese Rottenburg-Stuttgart
URL:https://www.foerderverein-stadtbibliothek-rottenburg.de/index.php?optio
 n=com_jem&view=event&id=696
END:VEVENT
END:VCALENDAR
