BEGIN:VCALENDAR
VERSION:2.0
PRODID:-//217.160.0.23//NONSGML kigkonsult.se iCalcreator 2.20//
CALSCALE:GREGORIAN
METHOD:PUBLISH
X-WR-TIMEZONE:UTC
BEGIN:VEVENT
UID:event691@Förderverein Stadtbibliothek Rottenburg
DTSTAMP:20260423T011430Z
CATEGORIES:allgemeine Veranstaltung
DESCRIPTION:ABGESAGT! Literatursommer 2020: Hölderlin und Hegel - 250 Jahre
  Sprache und Vision\nKategorie: allgemeine Veranstaltung\nICS-Link: https:
 //www.foerderverein-stadtbibliothek-rottenburg.de/index.php?option=com_jem
 &view=event&id=691\n
DTSTART:20200501T000000Z
DTEND:20200501T000000Z
LOCATION:Café Stadtgespräch\,Königstraße 2\,72108 Rottenburg
SUMMARY:ABGESAGT! Literatursommer 2020: Hölderlin und Hegel - 250 Jahre Spr
 ache und Vision
URL:https://www.foerderverein-stadtbibliothek-rottenburg.de/index.php?optio
 n=com_jem&view=event&id=691
END:VEVENT
END:VCALENDAR
