BEGIN:VCALENDAR
VERSION:2.0
PRODID:-//217.160.0.23//NONSGML kigkonsult.se iCalcreator 2.20//
CALSCALE:GREGORIAN
METHOD:PUBLISH
X-WR-TIMEZONE:UTC
BEGIN:VEVENT
UID:event678@Förderverein Stadtbibliothek Rottenburg
DTSTAMP:20260423T081251Z
CATEGORIES:allgemeine Veranstaltung
DESCRIPTION:bis auf weiteres abgesagt: Bücherbienchentreff\nKategorie: allg
 emeine Veranstaltung\nICS-Link: https://www.foerderverein-stadtbibliothek-
 rottenburg.de/index.php?option=com_jem&view=event&id=678\n
DTSTART:20200204T000000Z
DTEND:20200204T000000Z
LOCATION:Stadtbibliothek 2. Stock\, Seminarraum\,Königstraße 2\,72108 Rotte
 nburg
SUMMARY:bis auf weiteres abgesagt: Bücherbienchentreff
URL:https://www.foerderverein-stadtbibliothek-rottenburg.de/index.php?optio
 n=com_jem&view=event&id=678
END:VEVENT
END:VCALENDAR
