BEGIN:VCALENDAR
VERSION:2.0
PRODID:-//217.160.0.23//NONSGML kigkonsult.se iCalcreator 2.20//
CALSCALE:GREGORIAN
METHOD:PUBLISH
X-WR-TIMEZONE:UTC
BEGIN:VEVENT
UID:event645@Förderverein Stadtbibliothek Rottenburg
DTSTAMP:20260425T102558Z
CATEGORIES:allgemeine Veranstaltung
DESCRIPTION:abgesagt: Krebs - was nun\, was tun? - Grundlagen einer integra
 tiven Krebsbehandlung\nKategorie: allgemeine Veranstaltung\nICS-Link: http
 s://www.foerderverein-stadtbibliothek-rottenburg.de/index.php?option=com_j
 em&view=event&id=645\n
DTSTART:20200326T193000Z
DTEND:20200326T193000Z
LOCATION:Café Stadtgespräch\,Königstraße 2\,72108 Rottenburg
SUMMARY:abgesagt: Krebs - was nun\, was tun? - Grundlagen einer integrative
 n Krebsbehandlung
URL:https://www.foerderverein-stadtbibliothek-rottenburg.de/index.php?optio
 n=com_jem&view=event&id=645
END:VEVENT
END:VCALENDAR
