BEGIN:VCALENDAR
VERSION:2.0
PRODID:-//217.160.0.23//NONSGML kigkonsult.se iCalcreator 2.20//
CALSCALE:GREGORIAN
METHOD:PUBLISH
X-WR-TIMEZONE:UTC
BEGIN:VEVENT
UID:event207@Förderverein Stadtbibliothek Rottenburg
DTSTAMP:20260423T005714Z
CATEGORIES:KInder bis 7 Jahre
DESCRIPTION:Kinder- und Jugendbuchflohmarkt\nKategorie: KInder bis 7 Jahre
 \nICS-Link: https://www.foerderverein-stadtbibliothek-rottenburg.de/index.
 php?option=com_jem&view=event&id=207\n
DTSTART:20191203T000000Z
DTEND:20191203T000000Z
LOCATION:Café Stadtgespräch\,Königstraße 2\,72108 Rottenburg
SUMMARY:Kinder- und Jugendbuchflohmarkt
URL:https://www.foerderverein-stadtbibliothek-rottenburg.de/index.php?optio
 n=com_jem&view=event&id=207
END:VEVENT
END:VCALENDAR
