BEGIN:VCALENDAR
VERSION:2.0
PRODID:-//217.160.0.23//NONSGML kigkonsult.se iCalcreator 2.20//
CALSCALE:GREGORIAN
METHOD:PUBLISH
X-WR-TIMEZONE:UTC
BEGIN:VEVENT
UID:event189@Förderverein Stadtbibliothek Rottenburg
DTSTAMP:20260423T044549Z
CATEGORIES:allgemeine Veranstaltung
DESCRIPTION:Wolfsgebiet von Edi Graf - Autorenlesung mit tierischen Speisen
  und Getränken\nKategorie: allgemeine Veranstaltung\nICS-Link: https://www
 .foerderverein-stadtbibliothek-rottenburg.de/index.php?option=com_jem&view
 =event&id=189\n
DTSTART:20191105T193000Z
DTEND:20191105T193000Z
LOCATION:Café Stadtgespräch\,Königstraße 2\,72108 Rottenburg
SUMMARY:Wolfsgebiet von Edi Graf - Autorenlesung mit tierischen Speisen und
  Getränken
URL:https://www.foerderverein-stadtbibliothek-rottenburg.de/index.php?optio
 n=com_jem&view=event&id=189
END:VEVENT
END:VCALENDAR
