BEGIN:VCALENDAR
VERSION:2.0
PRODID:-//217.160.0.23//NONSGML kigkonsult.se iCalcreator 2.20//
CALSCALE:GREGORIAN
METHOD:PUBLISH
X-WR-TIMEZONE:UTC
BEGIN:VEVENT
UID:event185@Förderverein Stadtbibliothek Rottenburg
DTSTAMP:20260423T011328Z
CATEGORIES:allgemeine Veranstaltung
DESCRIPTION:Literaturcafé\nKategorie: allgemeine Veranstaltung\nICS-Link: h
 ttps://www.foerderverein-stadtbibliothek-rottenburg.de/index.php?option=co
 m_jem&view=event&id=185\n
DTSTART:20191010T160000Z
DTEND:20191010T160000Z
LOCATION:Stadtbibliothek 2. Stock\, Seminarraum\,Königstraße 2\,72108 Rotte
 nburg
SUMMARY:Literaturcafé
URL:https://www.foerderverein-stadtbibliothek-rottenburg.de/index.php?optio
 n=com_jem&view=event&id=185
END:VEVENT
END:VCALENDAR
