BEGIN:VCALENDAR
VERSION:2.0
PRODID:-//217.160.0.23//NONSGML kigkonsult.se iCalcreator 2.20//
CALSCALE:GREGORIAN
METHOD:PUBLISH
X-WR-TIMEZONE:UTC
BEGIN:VEVENT
UID:event180@Förderverein Stadtbibliothek Rottenburg
DTSTAMP:20260423T025353Z
CATEGORIES:allgemeine Veranstaltung
DESCRIPTION:Das Herz wird nicht dement oder Können wir nicht über etwas And
 eres reden? - ein Literaturcafé\nKategorie: allgemeine Veranstaltung\nICS-
 Link: https://www.foerderverein-stadtbibliothek-rottenburg.de/index.php?op
 tion=com_jem&view=event&id=180\n
DTSTART:20191010T160000Z
DTEND:20191010T160000Z
LOCATION:Stadtbibliothek 2. Stock\, Seminarraum\,Königstraße 2\,72108 Rotte
 nburg
SUMMARY:Das Herz wird nicht dement oder Können wir nicht über etwas Anderes
  reden? - ein Literaturcafé
URL:https://www.foerderverein-stadtbibliothek-rottenburg.de/index.php?optio
 n=com_jem&view=event&id=180
END:VEVENT
END:VCALENDAR
