BEGIN:VCALENDAR
VERSION:2.0
PRODID:-//217.160.0.23//NONSGML kigkonsult.se iCalcreator 2.20//
CALSCALE:GREGORIAN
METHOD:PUBLISH
X-WR-TIMEZONE:UTC
BEGIN:VEVENT
UID:event157@Förderverein Stadtbibliothek Rottenburg
DTSTAMP:20260423T005833Z
CATEGORIES:allgemeine Veranstaltung
DESCRIPTION:Sprach- und Spielspaß in der Stadtbibliothek\nKategorie: allgem
 eine Veranstaltung\nICS-Link: https://www.foerderverein-stadtbibliothek-ro
 ttenburg.de/index.php?option=com_jem&view=event&id=157\n
DTSTART:20190923T120000Z
DTEND:20190923T120000Z
LOCATION:Stadtbibliothek 2. Stock\,Königstraße 2\,72108 Rottenburg
SUMMARY:Sprach- und Spielspaß in der Stadtbibliothek
URL:https://www.foerderverein-stadtbibliothek-rottenburg.de/index.php?optio
 n=com_jem&view=event&id=157
END:VEVENT
END:VCALENDAR
