BEGIN:VCALENDAR
VERSION:2.0
PRODID:-//217.160.0.23//NONSGML kigkonsult.se iCalcreator 2.20//
CALSCALE:GREGORIAN
METHOD:PUBLISH
X-WR-TIMEZONE:UTC
BEGIN:VEVENT
UID:event1356@Förderverein Stadtbibliothek Rottenburg
DTSTAMP:20260422T232224Z
CATEGORIES:allgemeine Veranstaltung
DESCRIPTION:Liebe zartbitter\nKategorie: allgemeine Veranstaltung\nICS-Link
 : https://www.foerderverein-stadtbibliothek-rottenburg.de/index.php?option
 =com_jem&view=event&id=1356\n
DTSTART:20261010T193000Z
DTEND:20261010T193000Z
LOCATION:Café Stadtgespräch\,Königstraße 2\,72108 Rottenburg
SUMMARY:Liebe zartbitter
URL:https://www.foerderverein-stadtbibliothek-rottenburg.de/index.php?optio
 n=com_jem&view=event&id=1356
END:VEVENT
END:VCALENDAR
