BEGIN:VCALENDAR
VERSION:2.0
PRODID:-//217.160.0.23//NONSGML kigkonsult.se iCalcreator 2.20//
CALSCALE:GREGORIAN
METHOD:PUBLISH
X-WR-TIMEZONE:UTC
BEGIN:VEVENT
UID:event1355@Förderverein Stadtbibliothek Rottenburg
DTSTAMP:20260423T031451Z
CATEGORIES:allgemeine Veranstaltung
DESCRIPTION:Handarbeitsnachmittage in der Bibliothek\nKategorie: allgemeine
  Veranstaltung\nICS-Link: https://www.foerderverein-stadtbibliothek-rotten
 burg.de/index.php?option=com_jem&view=event&id=1355\n
DTSTART:20260611T160000Z
DTEND:20260611T160000Z
LOCATION:Café Stadtgespräch\,Königstraße 2\,72108 Rottenburg
SUMMARY:Handarbeitsnachmittage in der Bibliothek
URL:https://www.foerderverein-stadtbibliothek-rottenburg.de/index.php?optio
 n=com_jem&view=event&id=1355
END:VEVENT
END:VCALENDAR
