BEGIN:VCALENDAR
VERSION:2.0
PRODID:-//217.160.0.23//NONSGML kigkonsult.se iCalcreator 2.20//
CALSCALE:GREGORIAN
METHOD:PUBLISH
X-WR-TIMEZONE:UTC
BEGIN:VEVENT
UID:event1349@Förderverein Stadtbibliothek Rottenburg
DTSTAMP:20260422T121335Z
CATEGORIES:allgemeine Veranstaltung
DESCRIPTION:Vernissage 10 Jahre Fototreff Rottenburg\nKategorie: allgemeine
  Veranstaltung\nICS-Link: https://www.foerderverein-stadtbibliothek-rotten
 burg.de/index.php?option=com_jem&view=event&id=1349\n
DTSTART:20260309T190000Z
DTEND:20260309T190000Z
LOCATION:Café Stadtgespräch\,Königstraße 2\,72108 Rottenburg
SUMMARY:Vernissage 10 Jahre Fototreff Rottenburg
URL:https://www.foerderverein-stadtbibliothek-rottenburg.de/index.php?optio
 n=com_jem&view=event&id=1349
END:VEVENT
END:VCALENDAR
