BEGIN:VCALENDAR
VERSION:2.0
PRODID:-//217.160.0.23//NONSGML kigkonsult.se iCalcreator 2.20//
CALSCALE:GREGORIAN
METHOD:PUBLISH
X-WR-TIMEZONE:UTC
BEGIN:VEVENT
UID:event1346@Förderverein Stadtbibliothek Rottenburg
DTSTAMP:20260424T194609Z
CATEGORIES:allgemeine Veranstaltung
DESCRIPTION:Gabriele Katz liest aus Göttertage. Ein Paula-Modersohn-Becker-
 Roman\nKategorie: allgemeine Veranstaltung\nICS-Link: https://www.foerderv
 erein-stadtbibliothek-rottenburg.de/index.php?option=com_jem&view=event&id
 =1346\n
DTSTART:20260917T193000Z
DTEND:20260917T193000Z
LOCATION:Café Stadtgespräch\,Königstraße 2\,72108 Rottenburg
SUMMARY:Gabriele Katz liest aus Göttertage. Ein Paula-Modersohn-Becker-Roma
 n
URL:https://www.foerderverein-stadtbibliothek-rottenburg.de/index.php?optio
 n=com_jem&view=event&id=1346
END:VEVENT
END:VCALENDAR
