BEGIN:VCALENDAR
VERSION:2.0
PRODID:-//217.160.0.23//NONSGML kigkonsult.se iCalcreator 2.20//
CALSCALE:GREGORIAN
METHOD:PUBLISH
X-WR-TIMEZONE:UTC
BEGIN:VEVENT
UID:event1345@Förderverein Stadtbibliothek Rottenburg
DTSTAMP:20260423T031532Z
CATEGORIES:allgemeine Veranstaltung
DESCRIPTION:Buchvorstellung und Fotoshow mit Oliver Meckes: Drecksarbeit. D
 er Mikrokosmos unter unseren Füßen“\nKategorie: allgemeine Veranstaltung\n
 ICS-Link: https://www.foerderverein-stadtbibliothek-rottenburg.de/index.ph
 p?option=com_jem&view=event&id=1345\n
DTSTART:20260630T193000Z
DTEND:20260630T193000Z
LOCATION:Café Stadtgespräch\,Königstraße 2\,72108 Rottenburg
SUMMARY:Buchvorstellung und Fotoshow mit Oliver Meckes: Drecksarbeit. Der M
 ikrokosmos unter unseren Füßen“
URL:https://www.foerderverein-stadtbibliothek-rottenburg.de/index.php?optio
 n=com_jem&view=event&id=1345
END:VEVENT
END:VCALENDAR
