BEGIN:VCALENDAR
VERSION:2.0
PRODID:-//217.160.0.23//NONSGML kigkonsult.se iCalcreator 2.20//
CALSCALE:GREGORIAN
METHOD:PUBLISH
X-WR-TIMEZONE:UTC
BEGIN:VEVENT
UID:event1344@Förderverein Stadtbibliothek Rottenburg
DTSTAMP:20260423T031531Z
CATEGORIES:allgemeine Veranstaltung
DESCRIPTION:Alles Mörike – Texte und Lieder mit Bernhard Mohl und Monika Mü
 ller-Schauenburg\nKategorie: allgemeine Veranstaltung\nICS-Link: https://w
 ww.foerderverein-stadtbibliothek-rottenburg.de/index.php?option=com_jem&vi
 ew=event&id=1344\n
DTSTART:20260618T193000Z
DTEND:20260618T193000Z
LOCATION:Café Stadtgespräch\,Königstraße 2\,72108 Rottenburg
SUMMARY:Alles Mörike – Texte und Lieder mit Bernhard Mohl und Monika Müller
 -Schauenburg
URL:https://www.foerderverein-stadtbibliothek-rottenburg.de/index.php?optio
 n=com_jem&view=event&id=1344
END:VEVENT
END:VCALENDAR
