BEGIN:VCALENDAR
VERSION:2.0
PRODID:-//217.160.0.23//NONSGML kigkonsult.se iCalcreator 2.20//
CALSCALE:GREGORIAN
METHOD:PUBLISH
X-WR-TIMEZONE:UTC
BEGIN:VEVENT
UID:event1343@Förderverein Stadtbibliothek Rottenburg
DTSTAMP:20260422T121319Z
CATEGORIES:allgemeine Veranstaltung
DESCRIPTION:Ira Peter liest aus Deutsch genug? Warum wir endlich über Russl
 anddeutsche sprechen müssen\nKategorie: allgemeine Veranstaltung\nICS-Link
 : https://www.foerderverein-stadtbibliothek-rottenburg.de/index.php?option
 =com_jem&view=event&id=1343\n
DTSTART:20260505T193000Z
DTEND:20260505T193000Z
LOCATION:Café Stadtgespräch\,Königstraße 2\,72108 Rottenburg
SUMMARY:Ira Peter liest aus Deutsch genug? Warum wir endlich über Russlandd
 eutsche sprechen müssen
URL:https://www.foerderverein-stadtbibliothek-rottenburg.de/index.php?optio
 n=com_jem&view=event&id=1343
END:VEVENT
END:VCALENDAR
