BEGIN:VCALENDAR
VERSION:2.0
PRODID:-//217.160.0.23//NONSGML kigkonsult.se iCalcreator 2.20//
CALSCALE:GREGORIAN
METHOD:PUBLISH
X-WR-TIMEZONE:UTC
BEGIN:VEVENT
UID:event1336@Förderverein Stadtbibliothek Rottenburg
DTSTAMP:20260423T031450Z
CATEGORIES:allgemeine Veranstaltung
DESCRIPTION:Lesehasen\nKategorie: allgemeine Veranstaltung\nICS-Link: https
 ://www.foerderverein-stadtbibliothek-rottenburg.de/index.php?option=com_je
 m&view=event&id=1336\n
DTSTART:20260603T150000Z
DTEND:20260603T150000Z
LOCATION:Café Stadtgespräch\,Königstraße 2\,72108 Rottenburg
SUMMARY:Lesehasen
URL:https://www.foerderverein-stadtbibliothek-rottenburg.de/index.php?optio
 n=com_jem&view=event&id=1336
END:VEVENT
END:VCALENDAR
