BEGIN:VCALENDAR
VERSION:2.0
PRODID:-//217.160.0.23//NONSGML kigkonsult.se iCalcreator 2.20//
CALSCALE:GREGORIAN
METHOD:PUBLISH
X-WR-TIMEZONE:UTC
BEGIN:VEVENT
UID:event1314@Förderverein Stadtbibliothek Rottenburg
DTSTAMP:20260422T100737Z
CATEGORIES:allgemeine Veranstaltung
DESCRIPTION:Ausstellungseröffnung: Bilder des Malwettbewerbs zum Fairen Han
 del\nKategorie: allgemeine Veranstaltung\nICS-Link: https://www.foerderver
 ein-stadtbibliothek-rottenburg.de/index.php?option=com_jem&view=event&id=1
 314\n
DTSTART:20260430T160000Z
DTEND:20260430T160000Z
LOCATION:Café Stadtgespräch\,Königstraße 2\,72108 Rottenburg
SUMMARY:Ausstellungseröffnung: Bilder des Malwettbewerbs zum Fairen Handel
URL:https://www.foerderverein-stadtbibliothek-rottenburg.de/index.php?optio
 n=com_jem&view=event&id=1314
END:VEVENT
END:VCALENDAR
