BEGIN:VCALENDAR
VERSION:2.0
PRODID:-//217.160.0.23//NONSGML kigkonsult.se iCalcreator 2.20//
CALSCALE:GREGORIAN
METHOD:PUBLISH
X-WR-TIMEZONE:UTC
BEGIN:VEVENT
UID:event1287@Förderverein Stadtbibliothek Rottenburg
DTSTAMP:20260422T121336Z
CATEGORIES:allgemeine Veranstaltung
DESCRIPTION:Der Neckar\nKategorie: allgemeine Veranstaltung\nICS-Link: http
 s://www.foerderverein-stadtbibliothek-rottenburg.de/index.php?option=com_j
 em&view=event&id=1287\n
DTSTART:20260310T190000Z
DTEND:20260310T190000Z
LOCATION:Café Stadtgespräch\,Königstraße 2\,72108 Rottenburg
SUMMARY:Der Neckar
URL:https://www.foerderverein-stadtbibliothek-rottenburg.de/index.php?optio
 n=com_jem&view=event&id=1287
END:VEVENT
END:VCALENDAR
