BEGIN:VCALENDAR
VERSION:2.0
PRODID:-//217.160.0.23//NONSGML kigkonsult.se iCalcreator 2.20//
CALSCALE:GREGORIAN
METHOD:PUBLISH
X-WR-TIMEZONE:UTC
BEGIN:VEVENT
UID:event1223@Förderverein Stadtbibliothek Rottenburg
DTSTAMP:20260424T235016Z
CATEGORIES:allgemeine Veranstaltung
DESCRIPTION:Vernissage zur Ausstellung vo Dorothea Kumpf\nKategorie: allgem
 eine Veranstaltung\nICS-Link: https://www.foerderverein-stadtbibliothek-ro
 ttenburg.de/index.php?option=com_jem&view=event&id=1223\n
DTSTART:20250413T110000Z
DTEND:20250413T110000Z
LOCATION:Café Stadtgespräch\,Königstraße 2\,72108 Rottenburg
SUMMARY:Vernissage zur Ausstellung vo Dorothea Kumpf
URL:https://www.foerderverein-stadtbibliothek-rottenburg.de/index.php?optio
 n=com_jem&view=event&id=1223
END:VEVENT
END:VCALENDAR
