BEGIN:VCALENDAR
VERSION:2.0
PRODID:-//217.160.0.23//NONSGML kigkonsult.se iCalcreator 2.20//
CALSCALE:GREGORIAN
METHOD:PUBLISH
X-WR-TIMEZONE:UTC
BEGIN:VEVENT
UID:event1222@Förderverein Stadtbibliothek Rottenburg
DTSTAMP:20260424T084216Z
CATEGORIES:allgemeine Veranstaltung
DESCRIPTION:Ist das Klima noch zu retten? Einsichten aus der Weltklimakonfe
 renz in Baku – Aussichten auf Klimahandeln vor Ort\nKategorie: allgemeine 
 Veranstaltung\nICS-Link: https://www.foerderverein-stadtbibliothek-rottenb
 urg.de/index.php?option=com_jem&view=event&id=1222\n
DTSTART:20250220T193000Z
DTEND:20250220T193000Z
LOCATION:Café Stadtgespräch\,Königstraße 2\,72108 Rottenburg
SUMMARY:Ist das Klima noch zu retten? Einsichten aus der Weltklimakonferenz
  in Baku – Aussichten auf Klimahandeln vor Ort
URL:https://www.foerderverein-stadtbibliothek-rottenburg.de/index.php?optio
 n=com_jem&view=event&id=1222
END:VEVENT
END:VCALENDAR
