BEGIN:VCALENDAR
VERSION:2.0
PRODID:-//217.160.0.23//NONSGML kigkonsult.se iCalcreator 2.20//
CALSCALE:GREGORIAN
METHOD:PUBLISH
X-WR-TIMEZONE:UTC
BEGIN:VEVENT
UID:event1199@Förderverein Stadtbibliothek Rottenburg
DTSTAMP:20260424T064915Z
CATEGORIES:allgemeine Veranstaltung
DESCRIPTION:Zwischen Rosen und Schatten - Gedichte und Kurzprosa an fünf Vo
 rmittagen\nKategorie: allgemeine Veranstaltung\nICS-Link: https://www.foer
 derverein-stadtbibliothek-rottenburg.de/index.php?option=com_jem&view=even
 t&id=1199\n
DTSTART:20241107T100000Z
DTEND:20241107T120000Z
LOCATION:Café Stadtgespräch\,Königstraße 2\,72108 Rottenburg
SUMMARY:Zwischen Rosen und Schatten - Gedichte und Kurzprosa an fünf Vormit
 tagen
URL:https://www.foerderverein-stadtbibliothek-rottenburg.de/index.php?optio
 n=com_jem&view=event&id=1199
END:VEVENT
END:VCALENDAR
