BEGIN:VCALENDAR
VERSION:2.0
PRODID:-//217.160.0.23//NONSGML kigkonsult.se iCalcreator 2.20//
CALSCALE:GREGORIAN
METHOD:PUBLISH
X-WR-TIMEZONE:UTC
BEGIN:VEVENT
UID:event1112@Förderverein Stadtbibliothek Rottenburg
DTSTAMP:20260423T081250Z
CATEGORIES:allgemeine Veranstaltung
DESCRIPTION:How to be a woman\nKategorie: allgemeine Veranstaltung\nICS-Lin
 k: https://www.foerderverein-stadtbibliothek-rottenburg.de/index.php?optio
 n=com_jem&view=event&id=1112\n
DTSTART:20240317T193000Z
DTEND:20240317T193000Z
LOCATION:Café Stadtgespräch\,Königstraße 2\,72108 Rottenburg
SUMMARY:How to be a woman
URL:https://www.foerderverein-stadtbibliothek-rottenburg.de/index.php?optio
 n=com_jem&view=event&id=1112
END:VEVENT
END:VCALENDAR
