BEGIN:VCALENDAR
VERSION:2.0
PRODID:-//217.160.0.23//NONSGML kigkonsult.se iCalcreator 2.20//
CALSCALE:GREGORIAN
METHOD:PUBLISH
X-WR-TIMEZONE:UTC
BEGIN:VEVENT
UID:event1072@Förderverein Stadtbibliothek Rottenburg
DTSTAMP:20260423T212431Z
CATEGORIES:allgemeine Veranstaltung
DESCRIPTION:Ausstellung Fenn\nKategorie: allgemeine Veranstaltung\nICS-Link
 : https://www.foerderverein-stadtbibliothek-rottenburg.de/index.php?option
 =com_jem&view=event&id=1072\n
DTSTART:20231106T000000Z
DTEND:20231106T000000Z
LOCATION:Café Stadtgespräch\,Königstraße 2\,72108 Rottenburg
SUMMARY:Ausstellung Fenn
URL:https://www.foerderverein-stadtbibliothek-rottenburg.de/index.php?optio
 n=com_jem&view=event&id=1072
END:VEVENT
END:VCALENDAR
