BEGIN:VCALENDAR
VERSION:2.0
PRODID:-//217.160.0.23//NONSGML kigkonsult.se iCalcreator 2.20//
CALSCALE:GREGORIAN
METHOD:PUBLISH
X-WR-TIMEZONE:UTC
BEGIN:VEVENT
UID:event1070@Förderverein Stadtbibliothek Rottenburg
DTSTAMP:20260423T212340Z
CATEGORIES:allgemeine Veranstaltung
DESCRIPTION:Jugendparty 2023\nKategorie: allgemeine Veranstaltung\nICS-Link
 : https://www.foerderverein-stadtbibliothek-rottenburg.de/index.php?option
 =com_jem&view=event&id=1070\n
DTSTART:20231028T200000Z
DTEND:20231028T200000Z
LOCATION:Café Stadtgespräch\,Königstraße 2\,72108 Rottenburg
SUMMARY:Jugendparty 2023
URL:https://www.foerderverein-stadtbibliothek-rottenburg.de/index.php?optio
 n=com_jem&view=event&id=1070
END:VEVENT
END:VCALENDAR
