BEGIN:VCALENDAR
VERSION:2.0
PRODID:-//217.160.0.23//NONSGML kigkonsult.se iCalcreator 2.20//
CALSCALE:GREGORIAN
METHOD:PUBLISH
X-WR-TIMEZONE:UTC
BEGIN:VEVENT
UID:event1068@Förderverein Stadtbibliothek Rottenburg
DTSTAMP:20260423T225457Z
CATEGORIES:allgemeine Veranstaltung
DESCRIPTION:Eröffnung Bib der Dinge\nKategorie: allgemeine Veranstaltung\nI
 CS-Link: https://www.foerderverein-stadtbibliothek-rottenburg.de/index.php
 ?option=com_jem&view=event&id=1068\n
DTSTART:20231105T140000Z
DTEND:20231105T140000Z
LOCATION:Café Stadtgespräch\,Königstraße 2\,72108 Rottenburg
SUMMARY:Eröffnung Bib der Dinge
URL:https://www.foerderverein-stadtbibliothek-rottenburg.de/index.php?optio
 n=com_jem&view=event&id=1068
END:VEVENT
END:VCALENDAR
