BEGIN:VCALENDAR
VERSION:2.0
PRODID:-//217.160.0.23//NONSGML kigkonsult.se iCalcreator 2.20//
CALSCALE:GREGORIAN
METHOD:PUBLISH
X-WR-TIMEZONE:UTC
BEGIN:VEVENT
UID:event1056@Förderverein Stadtbibliothek Rottenburg
DTSTAMP:20260423T194316Z
CATEGORIES:allgemeine Veranstaltung
DESCRIPTION:Kino: Kuddelmuddel bei Pettersson und Findus\nKategorie: allgem
 eine Veranstaltung\nICS-Link: https://www.foerderverein-stadtbibliothek-ro
 ttenburg.de/index.php?option=com_jem&view=event&id=1056\n
DTSTART:20231022T140000Z
DTEND:20231022T140000Z
LOCATION:Café Stadtgespräch\,Königstraße 2\,72108 Rottenburg
SUMMARY:Kino: Kuddelmuddel bei Pettersson und Findus
URL:https://www.foerderverein-stadtbibliothek-rottenburg.de/index.php?optio
 n=com_jem&view=event&id=1056
END:VEVENT
END:VCALENDAR
