BEGIN:VCALENDAR
VERSION:2.0
PRODID:-//217.160.0.23//NONSGML kigkonsult.se iCalcreator 2.20//
CALSCALE:GREGORIAN
METHOD:PUBLISH
X-WR-TIMEZONE:UTC
BEGIN:VEVENT
UID:event1045@Förderverein Stadtbibliothek Rottenburg
DTSTAMP:20260423T212319Z
CATEGORIES:allgemeine Veranstaltung
DESCRIPTION:Spielenachmittag mit internationalen Spielen\nKategorie: allgem
 eine Veranstaltung\nICS-Link: https://www.foerderverein-stadtbibliothek-ro
 ttenburg.de/index.php?option=com_jem&view=event&id=1045\n
DTSTART:20231112T143000Z
DTEND:20231112T143000Z
LOCATION:Café Stadtgespräch\,Königstraße 2\,72108 Rottenburg
SUMMARY:Spielenachmittag mit internationalen Spielen
URL:https://www.foerderverein-stadtbibliothek-rottenburg.de/index.php?optio
 n=com_jem&view=event&id=1045
END:VEVENT
END:VCALENDAR
