BEGIN:VCALENDAR
VERSION:2.0
PRODID:-//217.160.0.23//NONSGML kigkonsult.se iCalcreator 2.20//
CALSCALE:GREGORIAN
METHOD:PUBLISH
X-WR-TIMEZONE:UTC
BEGIN:VEVENT
UID:event1031@Förderverein Stadtbibliothek Rottenburg
DTSTAMP:20260423T191610Z
CATEGORIES:allgemeine Veranstaltung
DESCRIPTION:HEISS AUF LESEN Verlosung und Urkundenvergabe\nKategorie: allge
 meine Veranstaltung\nICS-Link: https://www.foerderverein-stadtbibliothek-r
 ottenburg.de/index.php?option=com_jem&view=event&id=1031\n
DTSTART:20230918T170000Z
DTEND:20230918T170000Z
LOCATION:Café Stadtgespräch\,Königstraße 2\,72108 Rottenburg
SUMMARY:HEISS AUF LESEN Verlosung und Urkundenvergabe
URL:https://www.foerderverein-stadtbibliothek-rottenburg.de/index.php?optio
 n=com_jem&view=event&id=1031
END:VEVENT
END:VCALENDAR
